BEGIN:VCALENDAR
VERSION:2.0
PRODID:-//Top Colleges, Universities &amp; Institutes in India | Admission, Fees, Rankings of Top Management, Engineering, Medical Colleges - ECPv5.8.2//NONSGML v1.0//EN
CALSCALE:GREGORIAN
METHOD:PUBLISH
X-WR-CALNAME:Top Colleges, Universities &amp; Institutes in India | Admission, Fees, Rankings of Top Management, Engineering, Medical Colleges
X-ORIGINAL-URL:https://shikshaview.com
X-WR-CALDESC:Events for Top Colleges, Universities &amp; Institutes in India | Admission, Fees, Rankings of Top Management, Engineering, Medical Colleges
BEGIN:VTIMEZONE
TZID:Asia/Kolkata
BEGIN:STANDARD
TZOFFSETFROM:+0530
TZOFFSETTO:+0530
TZNAME:IST
DTSTART:20230101T000000
END:STANDARD
END:VTIMEZONE
BEGIN:VEVENT
DTSTART;TZID=Asia/Kolkata:20230604T080000
DTEND;TZID=Asia/Kolkata:20230604T180000
DTSTAMP:20260425T035825
CREATED:20230331T225337Z
LAST-MODIFIED:20230429T231548Z
UID:13851-1685865600-1685901600@shikshaview.com
SUMMARY:UP BSc Nursing Admission 2023:  Atal Bihari Vajpayee Medical University Examination [ABVMU-CNET] : Application Form\, Entrance Exam\, Results\, Counselling Date
DESCRIPTION:UP BSc Nursing – Atal Bihari Vajpayee Medical University Examination [ABVMU-CNET]\nUP BSc Nursing Admission is conducted by the Atal Bihari Vajpayee Medical University on behalf of the UPDGME. UP BSc Nursing Admission 2023 is done based on the performance of the applicants in the Common Entrance Test/ CET conducted by the ABVMU\, Uttar Pradesh. Those who qualify for the UP BSc nursing entrance exam can attend the counseling round for allotment of seats in different government and private colleges in UP. Candidates who have qualified for the NEET UG exam can also apply for the UP BSc Nursing Admission 2023. \nThe UPDGME releases the BSc Nursing Counselling Schedule. UP BSc Nursing application form 2023 has been released on April 15 and is ongoing till May 18\, 2023. The UP BSc Nursing Entrance Exam\, CNET\, will be conducted on June 04\, 2023\, and the results will be released in August 2023. \nUP BSc Nursing [ Atal Bihari Vajpayee Medical University Examination [ABVMU-CNET] ] Admission Highlights 2023\n\n\n\n\n\nImportant Events\nDates\n\n\nCourse\nBSc Nursing\n\n\nConducting Body\nAtal Bihari Vajpayee Medical University\n\n\nAdmission Process\nEntrance-Based\n\n\nOfficial Website\nhttps://abvmuup.edu.in/\n\n\nDirect Application Link\nApply Now!\n\n\n\n\n\n\nUP BSc Nursing [ Atal Bihari Vajpayee Medical University Examination] Admission Dates 2023\n\n\n\n\n\nImportant Events\nDates\n\n\n\n\nApplication form Release Date\nApril 15\, 2023\n\n\nLast Date for Submission of Application Form\nMay 18\, 2023\n\n\nRelease of Admit Card\nMay 25. 2023\n\n\nExam Date\nJune 04\, 2023\n\n\nDeclaration of Result\nAugust 2023\n\n\n\n\n\n\nUP BSc Nursing [Atal Bihari Vajpayee Medical University Examination] Admission 2023: Eligibility\nTo be eligible for UP BSc Nursing Admission 2023\, one must pass class 12 or equivalent in the Science stream. The detailed eligibility criteria for UP BSc Nursing Admission 2023 is given below: \n\nThe applicant must be a citizen of India and must complete class 12 from a recognized educational board.\nApplicants must be from the Science stream with Physics\, Chemistry\, Biology\, and English as compulsory subjects in 10+2.\nGeneral category candidates must score a minimum of 45% marks\, while reserved category candidates must score at least 40% marks in the class 12 exam.\nThose who have completed the GNM Nursing course are also eligible for UP BSc Nursing Admission.\nStudents who are appearing for the HSE/ 10+2 exam can also apply\, however\, to get admission to the course they must be able to provide the mark sheet at the time of counselling.\nThe applicants must be at least 17 years and not elder than 35 years (40 years in case of PwD) old at the time of admission.\nSome colleges\, however\, prefer female candidates only.\n\nUP BSc Nursing [Atal Bihari Vajpayee Medical University Examination] Admission Form 2023\nThe UP BSc Nursing Application form has been released on April 15\, 2023\, on the official website @abvmuup.edu.in. Here are some of the things to be kept in mind for UP BSc Nursing Admission 2023. \n\nVisit the official website for UP BSc Nursing i.e. abvmuup.edu.in.\nRead the brochure provided on the official website\, check the eligibility criteria\, the documents required\, steps to follow during filling of the application form\, etc.\nCarefully fill out the application form\, any mistakes in the information provided may lead to the cancellation of the form.\nComplete the process by submitting the application form and paying the application fee.\nAfter filling out the form\, they must keep a copy of the form for future use.\n\n\nUP BSc Nursing [Atal Bihari Vajpayee Medical University Examination [ABVMU-CNET]] Application Process 2023\nThe application process for UP BSc Nursing Admission is discussed below: \n\nRegister on the official website of the conducting body viz abvmuup.edu.in.\nAn information brochure will be provided on the website.\nDownload it and check the rules to be followed\, the documents that must be unloaded\, their size and other details.\nOnly after meeting the eligibility criteria\, one can continue with the application process.\nUsing a valid email id and phone number and start the registration process.\nThe applicants must be careful in filling the form\, and uploading the documents necessary.\nComplete the application process by paying the application fee.\nAfter completing the application process\, the applicants are advised to keep a copy of it for future uses.\n\nUP BSc Nursing [Atal Bihari Vajpayee Medical University Examination] Admission 2023: Application Fee\n\n\n\n\n\nCategory\nApplication Fee\n\n\n\n\nGeneral/ OBC\nINR 3000\n\n\nReserved Category (SC/ ST/PwD)\nINR 2000\n\n\n\n\n\nMode of Payment: Applicants can use any of the payment methods such as Credit Card\, Debit Card\, UPI and Net Banking. \nUP BSc Nursing [Atal Bihari Vajpayee Medical University Examination] Admission 2023: Documents Required\nHere is a list of documents required for the UP BSc Nursing Admission 2023. \n\nClass 10 marksheet & passing certificate\nClass 12 marksheet & passing certificate\nPassport size photograph\nScanned signature\nValid email ID & a mobile number\nCaste certificate (if needed)\nDomicile certificate (if needed)\nSchool leaving/ transfer certificate\n\nUP BSc Nursing [Atal Bihari Vajpayee Medical University Examination] Entrance Exam 2023: Admit Card\nUP BSc nursing entrance exam 2023 admit card has been released on July 20\, 2023. The steps to download the admit card are as follows. \n\nThe admit card will be released on the official website.\nTo download it\, applicants must log in using the credentials such as registration number/ email id/ others and password.\nAfter downloading it\, the applicants must take out a few copies.\nWithout the copy of the admit card\, applicants will not be allowed to sit for the exam.\n\nUP BSc Nursing [Atal Bihari Vajpayee Medical University Examination] Entrance Exam 2023 Results\nThe results for UP BSc nursing entrance exam 2023 will be declared after the commencement of the exam. \n\nIt will be released on the official website by the authorities.\nThe applicants can check it by visiting the official website and downloading the list.\nThe qualified candidates can proceed further for the admission.\n\nUP BSc Nursing [Atal Bihari Vajpayee Medical University Examination] Admission 2023: Counselling Process\nAfter the declaration of merit list\, students will be notified to attend the round of counselling. They must attend the counselling round in person. \n\nThe details of the counselling round will be uploaded on the official website by the authorities.\nStudents can select the course and colleges of their preference based on their performance in the entrance test.\nThey must bring the original documents with them for verification. And afterwards\, seats will be allotted.\nThe counselling round may be conducted 2 or more times depending on the available seats.\nThere will also be a ‘Mop up round’ to fill in the available seats.\n\n\n\nUP BSc Nursing [Atal Bihari Vajpayee Medical University Examination] Entrance Exam 2023\nThe topics for UP BSc nursing entrance exam 2023 is based on class 12 syllabus. It covers subjects such as Biology (Botany & Zoology)\, Chemistry\, Physics\, etc. The sections below discuss the exam pattern and syllabus for UP BSc nursing entrance exam 2023. \nUP BSc Nursing [Atal Bihari Vajpayee Medical University Examination] Entrance Exam Pattern\nUP BSc nursing entrance exam 2023 will be held in offline mode for a duration of 2 hours. The entrance exam will be conducted in two languages namely Hindi and English. The exam pattern is given below for your reference. \n\n\n\n\n\nSubjects\nNumber of Questions\nTotal Marks\n\n\n\n\nGeneral Ability and General Knowledge\n10\n10\n\n\nPhysics\n30\n30\n\n\nChemistry\n30\n30\n\n\nBiology (Botany and Zoology)\n30\n30\n\n\nTotal\n100\n100\n\n\nType of Question\nMultiple Choice Question/ MCQ\n\n\n\n\n\nUP BSc Nursing [Atal Bihari Vajpayee Medical University Examination] Entrance Exam Syllabus\nThe common subjects/topics included in UP BSc nursing entrance exam 2023 syllabus are mentioned below. \n\n\n\n\n\nPhysics\n\n\n\n\nMathematical Methods\nClassical Mechanics\n\n\nMolecular Physics\nCondensed Matter Physics\n\n\nThermodynamics\nStatistical Mechanics\n\n\nNuclear & Particle Physics\nQuantum Theory\, its Applications\n\n\nElectromagnetic Theory\nExperimental Physics\n\n\nChemistry\n\n\nGeneral Chemistry\nStructure of Atom\n\n\nElectrochemistry\nPeriodicity\n\n\nSolutions\nClassification of Elements\n\n\nMolecular Structure\nChemical Bonding\n\n\nSurface Chemistry\nChemical Kinetics\n\n\nStates of Matter\nThermodynamics\n\n\nIsolation of Elements\nCoordination Compounds\n\n\nGeneral Organic Chemistry\nEnvironmental Chemistry\n\n\nBiomolecules\nChemistry in Everyday Life\n\n\nBiology\n\n\nEmbryology of angiosperms\nPlant Physiology\n\n\nBiochemistry\nPlant growth & growth hormones\n\n\nEcology\nGymnosperm\n\n\nMorphology of Angiosperm\nAnatomy\n\n\nAlgae & Fungi\nPlant Diseases\n\n\nViruses\nBacteria\n\n\nBryophytes\nPlant Succession\n\n\nEnvironmental Pollution\nCell Biology\n\n\n\n\n\n\nFAQ’s UP BSc Nursing [Atal Bihari Vajpayee Medical University Examination] Admission 2023\n\nQ. What is the fees of BSc nursing course in UP? \n\nAns. The fees for BSc Nursing in UP ranges between INR 2\,000 – 2\,00\,000 annually. \n\nQ. How many seats are there for BSc Nursing in BSc nursing colleges in UP? \n\nAns. There are over 5\,800 BSc nursing seats in UP. Over 69 colleges in UP offer BSc Nursing courses. \n\nQ. How can I take admission in BSc nursing course in Uttar Pradesh? \n\nAns. Admission to BSc Nursing in UP is based on the performance of the students in UP Nursing CNET exam. To apply for the course\, visit the official website of the conducting body i.e. abvmuup.edu.in. Check the eligibility criteria\, steps to follow for admission and the documents required. \n\nQ. Is NEET required for UP BSc Nursing Admission 2023? \n\nAns. No\, NEET is not mandatory for UP BSc Nursing Admission 2023. UP BSc Nursing Admission 2023 is based on the performance of the students in the UP BSc Nursing CNET exam. \n\nQ. Is UP BSc Nursing form out for 2023? \n\nAns. UP BSc Nursing application form was released on April 15\, 2023. Candidates are eligible to apply for UP BSc Nursing Admission 2023 by May 18\, 2023. \n\n\n\n\n\n\n\n\n\n\n\n 
URL:https://shikshaview.com/event/abvmu-cnet-atal-bihari-vajpayee-medical-university-up-bsc-nursing-admission-application-form-entrance-exam-results-counselling-date
CATEGORIES:Entrance Exam
ATTACH;FMTTYPE=image/png:https://shikshaview.com/wp-content/uploads/2023/04/atal-bihari-vajpayee-medical-univesity-uttar-pradesh-nursing-exam.png
ORGANIZER;CN="ABVMU%20-%20ATAL%20BIHARI%20VAJPAYEE%20MEDICAL%20UNIVERSITY":MAILTO:info@shikshaview.com
END:VEVENT
BEGIN:VEVENT
DTSTART;TZID=Asia/Kolkata:20230604T090000
DTEND;TZID=Asia/Kolkata:20230604T180000
DTSTAMP:20260425T035825
CREATED:20230202T232601Z
LAST-MODIFIED:20230429T233233Z
UID:13861-1685869200-1685901600@shikshaview.com
SUMMARY:Assam BSc Nursing Admission 2023: Application Form\, Exam Date\, Eligibility\, Results\, Counseling
DESCRIPTION:Assam BSc Nursing Admission 2023\nAssam BSc Nursing Admission is conducted by SSUHS on behalf of the Directorate of Medical Education (DME). Assam BSc Nursing Admission 2023 is done based on an entrance exam conducted by the Srimanta Sankardeva University of Health Sciences (SSUHS) Assam. CEE is the state-level exam conducted by SSUHS Assam for admission to the BSc Nursing Program in all of the SSUHS-affiliated colleges in Assam. \nAssam BSc Nursing Notification has been released for the academic session 2023 to offer Assam BSc Nursing Admission. The SSUHS will conduct the Assam BSc Nursing Entrance Exam (CEE) on June 04\, 2023. The Assam BSc Nursing Registration process will be ongoing from April 27 – May 16\, 2023. \nAssam BSc Nursing Admission 2023: Highlights\n\n\n\n\nConducting Body\nSrimanta Sankaradeva University of Health Sciences (SSUHS)\n\n\nAdmission Criteria\nCEE Exam\n\n\nMode of Registration & Counseling\nOnline\n\n\nOfficial Website\nhttp://www.ssuhs.in/\n\n\nOfficial Brochure\nDownload Now!\n\n\n\n\nAssam BSc Nursing Admission Dates 2023\n\n\n\n\n\nEvents\nDates\n\n\n\n\nOnline Registration Begins\nApril 27\, 2023\n\n\nLast Date to Apply\nMay 16\, 2023\n\n\nAdmit Card Release Date\nMay 25\, 2023\n\n\nCEE 2023 Exam Date\nJune 04\, 2023\n\n\nCEE 2023 Result\nTo Be Announced\n\n\nCounselling Session\nTo Be Announced\n\n\n\n\nAssam BSc Nursing Admission 2023: Eligibility\nCandidates must go through the eligibility before they fill out the application form. The Assam BSc nursing admission eligibility has been mentioned in detail below. \n\nAge Limit: Applicants must be at least 17 years old while applying for Assam BSc Nursing Admission.\nEducational Qualifications: Candidates must have scored a minimum of 50% marks (40-45% in case of reserved categories) with Physics\, Chemistry\, and Biology as compulsory subjects.\nNationality: Only Indian nationals are eligible to apply for Assam BSc Nursing Admission 2023\n\nAssam BSc Nursing Application Form 2023\nAssam BSc nursing application process consists of the following steps: \n\nVisit the official website http://www.ssuhs.in/ and register before filling out the application form.\nProvide all the necessary details during registration.\nAfter registration\, login credentials will be generated. Candidates must use their login credentials to enter the portal and fill out the application form.\nWhile filling out the application form provide all the asked details and upload the required documents in the correct format.\nComplete the payment process through online payment methods.\n\nAssam BSc Nursing Application Fee\n\nAssam BSc nursing application fee can be paid online through online payment methods.\nThe Assam BSc Nursing Application Fee is INR 2000.\nThe application fee is entirely non-refundable\n\nAssam BSc Nursing Admission 2023: Documents Required\n\nClass 10 & Class 12 Marksheet\nClass 10 & Class 12 Passing Certificate\nTransfer Certificate\nCaste Certificate (if applicable)\nMedical Certificate (if applicable)\nMigration Certificate (if applicable).\nA Valid Photo Identity Proof (Aadhar/Voter ID/Passport\, etc.)\n\nAssam BSc Nursing Admission 2023: Merit List\n\nAssam BSc admission merit list will be prepared by the conducting body to select the eligible candidates for BSc nursing course.\nThe merit list will be prepared on the basis of marks scored by the students in the CEE 2023 exam.\nAfter the application process\, applicants can check the website for a merit list which will be released by the official authorities.\n\nAssam BSc Nursing Admission 2023: Counselling Process\n\nAfter the release of the merit list\, the shortlisted candidates will be called for the counseling process.\nThe counseling process will be done online and the seats will be allotted on the basis of the rank secured by the students. If any shortlisted students fail to appear for the counseling round\, their candidature will be cancelled.\nCandidates must verify their official documents during the counseling session and pay the admission fee in the allotted institution.\n\nFAQ’s Assam BSc Nursing Admission 2023\n\nQ. Is there any entrance exam for Assam BSc Nursing admission 2023? \n\nAns. Yes\, Assam BSc nursing admission is conducted on the basis of CEE exam. \n\nQ. What is the upper age limit for admission to Assam BSc Nursing? \n\nAns. Candidates’ minimum age should be 17 years old. \n\nQ. Can we pay the Assam BSc Nursing application fee offline? \n\nAns. No\, Assam BSc nursing application fee can be paid only online. Candidates can the application fee via debit card\, credit card\, or internet banking. \n\nQ. When will the Assam BSc Nursing admission begin? \n\nAns. The online registrations for Assam BSc nursing admission begin in July. For the academic year 2023\, Assam BSc nursing applications will be available from April 27- May 16\, 2023. \n\nQ. What are the subjects to be studied in 10+2 for admission to Assam BSc nursing admission? \n\nAns. The students must have completed 10+2 with Physics\, Chemistry\, Biology\, and English as compulsory subjects.
URL:https://shikshaview.com/event/assam-bsc-nursing-admission-application-form-exam-date-eligibility-results-counseling
CATEGORIES:Entrance Exam
ATTACH;FMTTYPE=image/png:https://shikshaview.com/wp-content/uploads/2023/04/ssuhs-assam-bsc-nursing-cce.png
ORGANIZER;CN="Srimanta%20Sankaradeva%20University%20of%20Health%20Sciences%20%28SSUHS%29":MAILTO:info@shikshaview.com
END:VEVENT
END:VCALENDAR