BEGIN:VCALENDAR
VERSION:2.0
PRODID:-//Top Colleges, Universities &amp; Institutes in India | Admission, Fees, Rankings of Top Management, Engineering, Medical Colleges - ECPv5.8.2//NONSGML v1.0//EN
CALSCALE:GREGORIAN
METHOD:PUBLISH
X-WR-CALNAME:Top Colleges, Universities &amp; Institutes in India | Admission, Fees, Rankings of Top Management, Engineering, Medical Colleges
X-ORIGINAL-URL:https://shikshaview.com
X-WR-CALDESC:Events for Top Colleges, Universities &amp; Institutes in India | Admission, Fees, Rankings of Top Management, Engineering, Medical Colleges
BEGIN:VTIMEZONE
TZID:Asia/Kolkata
BEGIN:STANDARD
TZOFFSETFROM:+0530
TZOFFSETTO:+0530
TZNAME:IST
DTSTART:20230101T000000
END:STANDARD
END:VTIMEZONE
BEGIN:VEVENT
DTSTART;TZID=Asia/Kolkata:20230527T090000
DTEND;TZID=Asia/Kolkata:20230527T190000
DTSTAMP:20260425T052712
CREATED:20230102T020009Z
LAST-MODIFIED:20230429T222147Z
UID:3633-1685178000-1685214000@shikshaview.com
SUMMARY:M.SC Nursing Entrance Exam Date - 2023
DESCRIPTION:AIIMS nursing 2023 exam will be conducted by the examination section of All India Institute of Medical Sciences (AIIMS)\, New Delhi. AIIMS nursing 2023 allows admission into MSc Nursing programmes. AIIMS in its recent notification has released the examination schedule for session 2023-24. Candidates who wish to appear for any of the graduate and postgraduate level course can apply . \nAIIMS M.Sc Nursing 2023 will be held on 27 May and 17 June 2023. The All India Institute Of Medical Science Master of Science in Nursing (AIIMS M.Sc Nursing) is a National level Nursing entrance exam. It is organized by All India Institute Of Medical Science (AIIMS) for admission to M.Sc. Nursing in AIIMS New Delhi and other AIIMS. If you want to appear in AIIMS M.Sc Nursing exam then register before last date. Then download AIIMS M.Sc Nursing admit card. After exam\, check answer key and then AIIMS M.Sc Nursing 2023 result. \nAIIMS MSc Nursing 2023 PAAR application form-filling process was held between  February 15 to April 20\, 2023 the code generation and final registration window are  open between March 3 – April 28\, 2023. The exam date for AIIMS MSc Nursing 2023 has been revised. Earlier\, the test was set to be held on June 24\, 2023. However\, as per the latest schedule\, the exam will now be held on May 27\, 2023. \nAIIMS – All India Institute of Medical Sciences\, New Delhi – is responsible for conducting the nursing exam for MSc courses. Through the AIIMS M.Sc. Nursing 2023 exam\, students are granted admission to about 124 MSc nursing seats in AIIMS institutes. \n  \n\n\n\nAIIMS M.Sc. Nursing PAAR Application Form Filling 2023 – Direct Link\nAIIMS M.Sc. Nursing Final Application Form Filling 2023 and Code Generation – Direct Link\n\n\n\nAIIMS is denoted as an elite institute in the field of medical sciences. The application process for AIIMS MSc nursing 2023 is done by a two-stage process where the first one is PAAR (Prospective Applicants Advanced Registration) system and the second one is basic registration followed by code generation and final registration. \nAIIMS M.Sc Nursing 2023 Application Form Last Date\nIt is critical that you fill and submit AIIMS M.Sc Nursing registration between the release date and last date. Therefore note following schedule. However keep checking aiimsexams.ac.in for any update in calendar. \n\n\n\n\nEvents\nDates\n\n\n\n\nBasic Registration (PAAR) for M.Sc Nursing 2023\n15 Feb to 20 Apr 2023\n\n\nGeneration of Code for Final Registration for M.Sc\nNursing only  for those whose Basic Registration is accepted.\n03 Mar to 28 Apr 2023\n\n\nFinal Registration (Payment of fees and city choice)\nonly for those who have Generated Code for Final\nRegistration.\n03 Mar to 28 Apr 2023\n\n\nStatus of application & rejected applications with reasons\n04 to 09 May 2023 up to 5 PM\n\n\n\n\nAIIMS M.Sc Nursing 2023 Exam Date ( Revised )\n  \n\n\n\nCollege\nCourse\nEligibility\nApplication Date\nAIIMS Paramedical 2023 Exam Date\n\n\nAIIMS Delhi\nMSc Nursing\nGraduation in Nursing/Relevant Stream\nFebruary 15 – April 20\, 2023\n27-May-23\n\n\nAIIMS Jodhpur\nMSc Nursing\nGraduation in Nursing/Relevant Stream\nFebruary 15 – April 20\, 2023\n27-May-23\n\n\n\nApplication Fees\nThe application fee is as follows. \n \n  \n\nAIIMS M.Sc Nursing 2023 Application Form – Key Details\nYou should note following important details of the form and exam. \n\n\n\n\nAspects\nDetails\n\n\n\n\nName of Exam\nAIIMS M.Sc Nursing 2023\n\n\nFull form of AIIMS M.Sc Nursing\nAll India Institute Of Medical Science Master of Science in Nursing\n\n\nOfficial body releasing AIIMS M.Sc Nursing application form\nAll India Institute Of Medical Science (AIIMS)\n\n\nType of Exam for which you fill application form\nNursing Entrance Exam\n\n\nLevel of Exam\nNational\n\n\nRegion\nDelhi\, NCR\n\n\nOfficial Website for AIIMS M.Sc Nursing 2023 Registration\naiimsexams.ac.in\n\n\nCourses for which AIIMS M.Sc Nursing exam is held\nM.Sc. Nursing\, M.Sc. Courses\, M. Biotechnology\n\n\nColleges for which AIIMS M.Sc Nursing exam is held\nAIIMS New Delhi and other AIIMS\n\n\n\n\n\nAIIMS MSc Nursing 2023 Exam Pattern\nAIIMS offers three nursing courses under its lens. All the three courses follow different Exam pattern. AIIMS MSc Nursing Exam pattern are: \n\n\n\nAIIMS Nursing MSc Exam Pattern\n\n\nExam duration\n90 minutes (one and a half Hours)\n\n\nExam language\nEnglish\n\n\nMode of exam\nComputer-based test\n\n\nType of questions\nMultiple-choice questions (MCQs)\n\n\nSections\nFour sections (A\,B\,C\,D)\n\n\nTotal questions\n70 MCQs\n\n\nNegative marking\nYes (-1/3)\n\n\nTotal marks\n100 (70 Online Test + 30 Personal Interview)\n\n\n\nAIIMS nursing 2023 MSc exam candidates have to follow a two-stage selection process. The two stages are \n\nStage 1: Written examination\nStage 2: Personal Interview/Assessment\n\nDescription of the two stages are mentioned below. Candidates can check what they can expect out of the two stages \nStage 1: Written examination\nThe first stage will be a written exam. I will invite candidates who will qualify the written exam for the Personal Interview/Assessment scheme. The written exam will be a 90 minute computer-based test. The question paper will be presented in English language only. \nStage 2: Personal Interview/Assessment scheme\nCandidates who will be able to make it to the merit list based on the written exam will be called for the personal interview/assessment round. The second stage will have the weightage of 30 marks. Final merit list will decide the fate of the candidate based on their performance in both the stages. Almost three times more candidates will be invited for the interview than the actual number available seats. The assessment process will count on the following criteria \n\nPast academic record of Graduation (BSc) level exam\nPerformance as a Staff Nurse\n\nAIIMS MSc Nursing 2023 Result\nAll India Institute of Medical Sciences (AIIMS)\, New Delhi\, Examination section will announce the AIIMS Nursing 2023 result in the second and third week of June 2023 tentatively. The result will contain the candidate’s roll number and his/her overall rank. After the declaration of the result\, a merit list based on the basis of ranking will be issued. Candidates in the merit list will be invited for the online counselling. On the basis of candidates’ performance in both the stages the admission will be granted.
URL:https://shikshaview.com/event/aiims-m-sc-nursing-entrance-examination-date-announced-and-admit-card-uploaded
LOCATION:AIMS EXAM CENTERS\, AIMS EXAM CENTERS\, India
CATEGORIES:Entrance Exam
ATTACH;FMTTYPE=image/jpeg:https://shikshaview.com/wp-content/uploads/2023/01/AIIMS-MSC-NURSING-EXAM.jpg
ORGANIZER;CN="AIMS%20Delhi":MAILTO:info@shikshaview.com
END:VEVENT
BEGIN:VEVENT
DTSTART;TZID=Asia/Kolkata:20230527T090000
DTEND;TZID=Asia/Kolkata:20230527T180000
DTSTAMP:20260425T052712
CREATED:20230102T020804Z
LAST-MODIFIED:20230429T222316Z
UID:3636-1685178000-1685210400@shikshaview.com
SUMMARY:AIIMS - Post Basic BSC Nursing Entrance Exam Date
DESCRIPTION:AIIMS Post Basic Nursing Registration Dates 2023 (Revised)\nAIIMS New Delhi revised the application and entrance exam dates for admission to BSc Nursing Post Basic course \n\n\n\n\nEvent\nDates\n\n\nApplication Status and Rejected Applications with Reasons for Rejection for  BSc Nursing Post Basic Course\nMay 4 – May 9\, 2023 (5:00 PM)\n\n\nFinalization of Centres and Release of Admit Card for BSc Nursing Post Basic Course\nMay 19\, 2023\n\n\nOnline Exam (CBT Mode) for BSc Nursing Post Basic Course\nMay 27\, 2023\n\n\n\n\n\n\nAIIMS Post Basic Nursing (PBSC) 2023 Exam Date (Revised)\nStudents can check the table to see the revised schedule for AIIMS Paramedical 2023 exam. \n\n\n\nCollege\nCourse\nEligibility\nApplication Date\nAIIMS Paramedical 2023 Exam Date\n\n\nAIIMS Delhi\nBSc Nursing Post Basic\n10+2 or Diploma in General Nursing and Midwifery; Registration as a nurse with any state council\nFebruary 15 – April 20\, 2023\n27-May-23\n\n\n\n\n\nAIIMS Paramedical Application Form 2023: How to Apply?\nAIIMS Paramedical registration process is generally done online through the official website of AIIMS. Here are the basic steps to apply for the AIIMS Paramedical exam 2023. \n\nVisit the official website of AIIMS (https://www.aiimsexams.ac.in/)\nClick on the ‘Registration/Login’ link.\nSelect the exam for which you want to register. In this case\, select AIIMS BSc Paramedical or AIIMS BSc Nursing exam.\nFill in your personal details such as name\, date of birth\, email ID\, mobile number\, etc.\nUpload your photograph\, signature\, and other necessary documents.\nPay the application fee through the available modes of payment (online).\nSubmit the application form and take a printout of the same for future reference.\n\n\nAIIMS Nursing 2023 Exam Pattern\nAIIMS offers three nursing courses under its lens. All the three courses follow different exam pattern. AIIMS nursing 2020 exam pattern for various BSc programs at AIIMS are: \nFor AIIMS Nursing BSc (Post basic)\nAIIMS nursing 2023 BSc (Post basic) exam candidates have to follow a two-stage selection process. The two stages are: \n\nStage 1: Written examination\nStage 2: Personal Interview/Assessment\n\n\n\n\nStage 1: AIIMS Nursing B.Sc. (Post basic)\n\n\nExam duration\n90 minutes (one and a half hour)\n\n\nMode of exam\nComputer-based test\n\n\nType of questions\nMultiple-choice questions (MCQs)\n\n\nSections\nFundamentals of Nursing\, Medical Surgical Nursing including Anatomy\, Physiology & Pharmacology\, Obstetrics Nursing and Midwifery\, Pediatric Nursing\, Community Health Nursing\, Psychiatric Nursing and Professional Trends in Nursing.\n\n\nNegative marking\nYes (-1/3)\n\n\n\nStage 2: Personal Interview/Assessment scheme\nCandidates who will be able to make it to the merit list based on the written exam will be called for the personal interview/assessment round. The second stage will have the weightage of 30 marks. Final merit list will decide the fate of the candidate based on their performance in both the stages. Almost three times more candidates will be invited for the interview than the actual number of available seats. The assessment process will count the following criteria: \n\nPast academic record in the Higher Secondary or class 12 or equivalent examination\nPast academic record in the Nursing examination\nPerformance as a Staff Nurse\n\nAIIMS Nursing 2023 (BSc) Result\nAll India Institute of Medical Sciences (AIIMS)\, New Delhi\, Examination section will announce the AIIMS Nursing 2023 result in the second and third week of June 2023\, tentatively. The result will contain the candidate’s roll number and his/her overall rank. After the declaration of the result\, a merit list based on the basis of ranking will be issued. Candidates in the merit list will be invited for the online counselling. On the basis of candidates’ performance in both the stages\, they will be admitted to the respective programs. \n\n\n\n\n\nFAQs about AIIMS Nursing 2023 Exam\nQ: Who conducting AIIMS Nursing 2023 for Nursing Courses? \nA: All India Institute of Medical Sciences\, New Delhi is the conducting body of AIIMS Nursing 2023 exam for admission in nursing programmes. \nQ: Who decides the selected cities of regional centres for AIIMS Nursing 2023? \nA: The AIIMS nursing 2023 will be conducted in selected cities of regional centres as decided by the All India Institute of Medical Sciences\, New Delhi. \nQ: Who all are eligible to apply for AIIMS Nursing 2023 for BSc Nursing Course? \nA: Candidates who have cleared class 12 exams or equivalent exam from a recognized board with Physics\, Chemistry\, Biology and English subjects and have secured a minimum of 55 percent marks in aggregate in class 12 and SC/ST category candidates should have secured 50 percent in aggregate. \nQ: I have qualified the NEET UG\, do I have to appear separately for AIIMS nursing 2023? \nA: Yes\, candidates who have to appear separately for the AIIMS nursing 2023 because NEET UG is not conducted for BSc nursing programme. \nQ: Is AIIM nursing 2023 application form available online? \nA: Yes\, candidates can apply for AIIMS nursing 2023 exam online by visiting the official website of AIIMS. Applicants can also pay the application fee online through credit/debit card or online banking facility. \nQ: Who is issued AIIMS nursing 2023 admit card? \nA: Candidates who have successfully filled the AIIMS nursing 2023 application form will be issued the AIIMS nursing 2023 admit card. Candidates who do not carry the admit card to the exam centre will not be allowed to enter the exam hall. \nQ: Can I take admission to any other university or institution through AIIMS nursing 2023? \nA: No\, one cannot take admission to any other university or institution by clearing the AIIMS nursing 2023 exam as no other institute or university accepts AIIMS nursing 2023 scores. \nQ: What is the application fee of AIIMS nursing exam? \nA: The application fee of AIIMS nursing 2023 exam is Rs 1500 for general and OBC category and Rs 1200 for SC/ST category candidates. The application fee can be paid online. \nQ: What are the documents required for submission of AIIMS nursing 2023 application? \nA: Self-attested copy of candidate’s photograph\, signature\, passing certificates of the qualifying exam\, mark sheet of qualifying exam\, proof of age certificate\, category certificate (if any). \nQ: What is AIIMS nursing 2023 exam? \nA: AIIMS nursing 2023 is a national level MBA Entrance Test conducted by the All India Institute of Medical Sciences (AIIMS)\, New Delhi for admissions to Nursing programmes. \nQ: In how many test cities will AIIMS Nursing 2023 be held? \nA: AIIMS nursing 2023 will be held in 13 test cities including Delhi\, Raipur\, Mumbai\, Thiruvananthapuram\, Bhopal\, Bhubaneshwar\, Jodhpur\, Chennai\, Dehradun\, Kolkata.
URL:https://shikshaview.com/event/aiims-post-basic-bsc-nursing-entrance-examination-2020-date-announced-and-admit-card-uploaded
LOCATION:AIMS EXAM CENTERS\, AIMS EXAM CENTERS\, India
CATEGORIES:Entrance Exam
ATTACH;FMTTYPE=image/jpeg:https://shikshaview.com/wp-content/uploads/2023/01/AIIMS-POST-BASIC-NURSING-EXAM.jpg
ORGANIZER;CN="AIMS%20Delhi":MAILTO:info@shikshaview.com
END:VEVENT
END:VCALENDAR