BEGIN:VCALENDAR
VERSION:2.0
PRODID:-//Top Colleges, Universities &amp; Institutes in India | Admission, Fees, Rankings of Top Management, Engineering, Medical Colleges - ECPv5.8.2//NONSGML v1.0//EN
CALSCALE:GREGORIAN
METHOD:PUBLISH
X-WR-CALNAME:Top Colleges, Universities &amp; Institutes in India | Admission, Fees, Rankings of Top Management, Engineering, Medical Colleges
X-ORIGINAL-URL:https://shikshaview.com
X-WR-CALDESC:Events for Top Colleges, Universities &amp; Institutes in India | Admission, Fees, Rankings of Top Management, Engineering, Medical Colleges
BEGIN:VTIMEZONE
TZID:Asia/Kolkata
BEGIN:STANDARD
TZOFFSETFROM:+0530
TZOFFSETTO:+0530
TZNAME:IST
DTSTART:20230101T000000
END:STANDARD
END:VTIMEZONE
BEGIN:VEVENT
DTSTART;TZID=Asia/Kolkata:20230507T090000
DTEND;TZID=Asia/Kolkata:20230507T090000
DTSTAMP:20260425T052713
CREATED:20230102T021427Z
LAST-MODIFIED:20230429T203158Z
UID:3639-1683450000-1683450000@shikshaview.com
SUMMARY:NEET 2023 Exam Date
DESCRIPTION:NEET 2023 Exam Date\nFor NEET 2023 exam date\, candidates can refer to the table below: \n\n\n\n\n\nImportant Events\nDates\n\n\n\n\nNEET 2023 Notification by NTA\nMarch 6\, 2023\n\n\nNEET 2023 Application Form Release Date\nMarch 6\, 2023\n\n\nLast date to fill NEET 2023 Application Form\nApril 6\, 2023 (11:50 PM)\n\n\nNEET 2023 Application Correction\nApril 8 to 10\, 2023 (11:50 PM)\n\n\nNEET 2023 Registration Re-opened\n\nApril 12 to 15\, 2023 (11:30 PM) \nFee payment till 11:59 PM \n\n\n\nCity Intimation Slip\nApril 28\, 2023\n\n\nNEET 2023 Admit Card\nApril 30\, 2023\n\n\nNEET 2023 Exam Date\nMay 7\, 2023\n\n\nNEET 2023 Exam Time\n2:00 PM to 5:20 PM\n\n\nNTA NEET 2023 Answer Key and OMR Sheet\nMay 2023\n\n\nNEET 2023 Result\nJune 2023\n\n\nNEET 2023 Cut off Marks\nJune 2023\n\n\nNEET 2023 Merit List release date\nJune 2023\n\n\nNEET 2023 Counselling begins\nAugust 2023\n\n\n\n\n\nNEET 2023 advance intimation of examination city slip is expected to be released by NTA anytime soon. Candidates will have to log in and download the document which will carry the name of the city where their NEET 2023 exam centre will be located. While this is not an admit card since it would not mention the venue details for the NEET exam centre\, prior information on the exam city will help them plan the exam day logistics in advance. The NEET 2023 admit card is likely to be released in the first week of May\, a few days before the exam which is scheduled to be held on May 7. \nThe NEET 2023 application form process concluded on April 15.  NTA is expected to release the advance intimation to exam city slip by April-end. The NEET 2023 admit card is likely to be released by the fourth week of April or first week of May. As per reports\, over 21 lakh candidates have applied for the exam\, which is the highest number in the past few years. NEET 2023 will be conducted in a paper-pencil-based mode for 200 minutes\, from 2 PM to 5.20 PM (IST) in 499 cities across India and abroad. The NEET exam pattern and syllabus have remained the same as last year. While there are less than 10 days left for the exam\, parents of NEET 2023 aspirants have sought clarification from the Education Ministry on the rationalized NEET UG 2023 syllabus. In a letter addressed to the Education Minister\, the President of IWPA has written\, “Kindly give a clarification on the same. Several students have approached me to get a clarification on the same as they are not getting any response from anywhere.” However\, students are advised to follow the NEET 2023 syllabus given in the information brochure. \nNEET UG 2023 Highlights\nThe following table enlists the key features and highlights of NEET UG 2023. \n\n\n\n\nParticulars\nDetails\n\n\n\n\nExam Name\nNational Eligibility Cum Entrance Test (NEET)\n\n\nConducting Body\nNational Testing Agency (NTA)\n\n\nExam Level\nUndergraduate (UG) Exam at National Level\n\n\nExam Frequency\nOnce a year\n\n\nTotal Registrations\n18\,72\,341 (NEET 2022)\n\n\nExam Mode\nOffline or Paper Pencil Based Test (PBT)\n\n\nCourses Offered Through NEET UG\nMBBS\, BDS\, BAMS\, BVSC & AH\n\n\nExam Fees\nINR 1\,700 (General)\, 1\,600 (OBC)\, 1\,000 (Reserved category candidates)\, 9\,500 (Foreign nationals)\n\n\nExam Duration\n3 hours and 20 minutes\n\n\nNumber of Subjects and Total Marks\nPhysics (180 marks)\, Chemistry (180 marks)\, Biology (360 marks): Total Marks – 720\n\n\nTotal Questions\n200 (180 to be attempted)\n\n\nMarking Scheme\n+4 for each correct answer \n-1 for each incorrect answer\n\n\nNumber of Exam Cities\n543 (India) \n14 (Abroad)\n\n\nLanguage/Medium of Paper\n13 Languages – English\, Hindi\, Bengali\, Urdu\, Assamese\, Gujarati\, Marathi\, Odia\, Kannada\, Tamil\, Malayalam\, Punjabi and Telugu\n\n\nAccepting Colleges\n1\,613 colleges\n\n\nTotal Number of Seats\nMBBS – 99\,763 BDS – 27\,868 BAMS – 52\,720 BVSc & AH – 603\n\n\nNEET Helpline Numbers\n011-40759000\n\n\nNEET Official Website\nwww.neet.nta.nic.in\n\n\n\n\nNEET Application Fee\nThe NEET 2023 application fee was increased by INR 100 for each candidate category. The category-wise application fees are given in the below table: \n\n\n\n\n\n\n\n\nCategory \n\n\nApplication Fee (in INR) \n\n\n\n\n\n\nGeneral \n\n\n1\,700 \n\n\n\n\nGeneral EWS and OBC \n\n\n1\,600 \n\n\n\n\nSC\, ST\, PwD \n\n\n1\,000 \n\n\n\n\nOutside India \n\n\n9\,500 \n\n\n\n\n\nNEET 2023 Eligibility Criteria\nNEET UG 2023 aspirants who wished to apply for the entrance test are advised to check if they fit into the criteria specified by NTA. Candidates who fulfil the following parameters are eligible for the exam \nAge Limit:\nThe age limit or age criteria for NEET candidates are as follows: \n\nThe minimum age of a candidate as of December 31\, 2023\, should be 17 years.\nThe upper age limit of 25 years for General category candidates and 30 years for reserved category candidates have been removed by NMC in 2022.\n\nMinimum qualification:\nApplicants should fulfil the educational qualification mentioned below: \n\nCandidates must have cleared Class 12 or equivalent from a recognised institute and Board.\nCandidates who are appearing for Class 12 or equivalent in 2023 can also apply for NEET 2023.\nCandidates who have completed Class 12 or equivalent from an open school are also eligible.\n\nMandatory subjects:\n\nCandidates must have cleared Class 12 or equivalent with Physics\, Chemistry and Biology.\nCandidates who have passed Class 12 or equivalent with Biology as an additional subject are also eligible.\n\nMinimum marks required in the qualifying examination:\n\nGeneral category: 50 per cent\nPWD category: 45 per cent\nSC/ST/OBC: 40 per cent\n\nFAQ’s NEET 2023 EXAM\nQ. Will NEET be conducted in 2023? \nAns. Yes\, NEET will be conducted by NTA in 2023. NTA has released the official information bulletin as per which NEET 2023 exam date is May 7\, 2023. Other important NEET 2023 dates are announced by NTA along with the official information bulletin. \nQ. Is NEET 2023 date confirmed? \nAns. Yes\, NTA has confirmed NEET 2023 date to be May 7\, 2023. NTA has released the official notification and started the registration process for NEET 2023. \nQ. Is NEET 2023 twice? \nAns. As of now\, NTA has not provided any notice of conducting NEET twice in 2023. The latest updates of the same will be updated here if NTA make any official announcement to conduct NEET twice in 2023. \nQ. Will NEET 2023 be postponed? \nAns. No\, as per latest updates\, NEET 2023 is not likely to be postponed despite the demands by candidates. As of now\, NTA has announced NEET 2023 exam date to be May 7\, 2023 \n  \n 
URL:https://shikshaview.com/event/bams-mbbs-bds-bhms-neet-exam-dates
LOCATION:NEET EXAM CENTRES\, India
CATEGORIES:Entrance Exam
ATTACH;FMTTYPE=image/jpeg:https://shikshaview.com/wp-content/uploads/2023/01/NEET-EXAM.jpg
ORGANIZER;CN="NTA":MAILTO:info@shikshaview.com
END:VEVENT
END:VCALENDAR