BEGIN:VCALENDAR
VERSION:2.0
PRODID:-//Top Colleges, Universities &amp; Institutes in India | Admission, Fees, Rankings of Top Management, Engineering, Medical Colleges - ECPv5.8.2//NONSGML v1.0//EN
CALSCALE:GREGORIAN
METHOD:PUBLISH
X-WR-CALNAME:Top Colleges, Universities &amp; Institutes in India | Admission, Fees, Rankings of Top Management, Engineering, Medical Colleges
X-ORIGINAL-URL:https://shikshaview.com
X-WR-CALDESC:Events for Top Colleges, Universities &amp; Institutes in India | Admission, Fees, Rankings of Top Management, Engineering, Medical Colleges
BEGIN:VTIMEZONE
TZID:Asia/Kolkata
BEGIN:STANDARD
TZOFFSETFROM:+0530
TZOFFSETTO:+0530
TZNAME:IST
DTSTART:20230101T000000
END:STANDARD
END:VTIMEZONE
BEGIN:VEVENT
DTSTART;TZID=Asia/Kolkata:20230406T090000
DTEND;TZID=Asia/Kolkata:20230415T150000
DTSTAMP:20260422T195342
CREATED:20221203T121615Z
LAST-MODIFIED:20230429T201914Z
UID:12523-1680771600-1681570800@shikshaview.com
SUMMARY:JEE Mains 2023 Exam Date
DESCRIPTION:JEE Main 2023 Exam Date\nJEE Main 2023 Exam Date is announced along with the official JEE Main 2023 notification. In line with the past trends of holding JEE Main over multiple dates\, JEE Main 2023 Exam Date have been spread over multiple days. \n  \nJEE Main 2023 Login is now active on the official website-  jeemain.nta.nic.in 2023. Candidates require JEE Main 2023 Login to fill the application form\, download admit card\, check result and download rank card. JEE Main Login credentials are generated at the time of registration. To login\, candidates are required to use their JEE Main Application Number and password/ DOB. \n\n\n\n\nDirect link to JEE Main 2023 Login– (LIVE)\nJEE Main 2023 Official Website– (LIVE)\n\n\n\n\n\nJEE Main 2023 is going to be conducted in two sessions-\n\nJEE Main 2023 Phase 1: January 24\, 25\, 28\, 29\, 30\, 31 and February 1\, 2023\nJEE Main 2023 Phase 2: April 6\, 7\, 8\, 9\, 10\, 11\, 12\, 2023\n\n\nCandidates can create their login credentials through JEE Main registrations. Only after the creation of JEE Main 2023 Login credentials\, candidates can completely fill the form\, download the admit card and check their results.\n\nJEE Main 2023 Exam Date Session 2 (April)\n\n\n\n\n\nEvents\nPhase 2 Dates\n\n\n\n\nJEE Main 2023 Session 2 Application form Release Date\nFebruary 14\, 2023\n\n\nJEE Main 2023 Session 2 Application Form Last Date\nMarch 16\, 2023 (10:50 PM)\n\n\nJEE Main 2023 Session 2 Form Correction\nMarch 13\, 2023 to March 14\, 2023\n\n\nJEE Main 2023 Session 2 City Intimation\nApril 1\, 2023\n\n\nJEE Main 2023 Session 2 Admit Card Date\nApril 3\, 2023\n\n\nJEE Main 2023 Session 2 Exam Date\nApril 6\, 8\, 10\, 11\, 12\, 13 and 15\, 2023\n\n\nJEE Main 2023 Session 2 Answer Key Release\nApril 19\, 2023\n\n\nJEE Main 2023 Session 2 Answer Key Challenge\nApril 19\, 2023 to April 21\, 2023\n\n\nJEE Main 2023 Final Answer Key\nApril 24\, 2023\n\n\nJEE Main 2023 Session 2 Result Date\nApril 29\, 2023 (OUT)\n\n\nJEE Main 2023 Paper 2 Result Date\nMay 5\, 2023\n\n\nJEE Main 2023 Counselling Date\n1st week of June 2023\n\n\n\n\n\n\nJEE Main 2023 Examination Schedule\nJEE Main 2023 is going to be conducted in two-shift timing for both January and April sessions. \n\nJEE Main First Shift/ Forenoon Session Timings- 9 AM to 12 PM.\nJEE Main Second Shift/ Afternoon Session Timings- 3 PM to 6 PM.\n\nJEE Main 2023 Admit Card contains JEE Main 2023 Exam Center and timing details. Candidates are advised to reach their exam center an hour before the reporting time. The table below covers JEE Main 2023 Exam Timings for the two shifts. \n\n\n\n\n\nEvents\nFirst Shift\nSecond Shift\n\n\n\n\nB.E/B.Tech Timings\n9:00 AM to 12:00 PM\n3:00 PM to 6:00 PM\n\n\nB.Arch Timings\n9:00 AM to 12:00 PM\n3:00 PM to 6:00 PM\n\n\nB.Plan Timings\n–\n3:00 PM to 6:00 PM\n\n\nB.Arch and B.Plan Timings\n–\n3:00 PM to 6:30 PM\n\n\n\n\nEntry in the Examination Centre/Hall/Room\, physical frisking\, document verification;\nInvigilators record manual attendance and Biometric registration desk;\nCross-checking of admit card\, signature and photo match\, to be completed by the invigilator\n\n\n7:00 AM to 8:30 AM\n1:00 PM to 2:30 PM\n\n\nInstructions by the Invigilators\n8:30 AM to 8:50 AM\n2:30 to 2:50 PM\n\n\nCandidates log in to read the Instructions\n8:50 AM\n2:50 PM\n\n\nCommencement of exam\n9:00 AM\n3:00 PM\n\n\n\n\n\n\nJEE Main 2023 Application Form Release Date\nNTA has started JEE Main 2023 for April Session. Candidates can register online on the official website- jeemain.nta.ac.in or nta.ac.in. Candidates can check JEE Main 2023 Application Form release date from the table below. \n\n\n\n\n\nEvents\nJEE Main Phase 2 Registration Dates\n\n\n\n\nRelease of JEE Main 2023 Notification\nDecember 15\, 2022\n\n\nJEE Main 2023 Application Form Release Date\nFebruary 14\, 2023\n\n\nJEE Main 2023 Registration Last Date (Reopened)\n\nMarch 12\, 2023 (9 PM) \nMarch 15 to 16\, 2023 (10:50 PM) \n\n\n\nLast Date for Payment of Application Fee\n\nMarch 12\, 2023 (11:50 PM) \nMarch 16\, 2023 (11:50 PM) \n\n\n\n\n\n\n\nJEE Main 2023 Admit Card Release Date\n\n\n\n\n\nEvents\nJEE Main Phase 2 Dates\n\n\n\n\nJEE Main 2023 Admit Card Release Date\nLast week of March 2023\n\n\nJEE Main 2023 Exam Date\nApril 6\, 8\, 10\, 11\, 12\, 13 and 15\, 2023\n\n\n\n\n\nJEE Main 2023 Answer Key Release Date\nNTA releases provisional JEE Main 2023 Answer Key within 2-3 days after the completion of the exam. Candidates can raise objections against the provisional answer key by logging in to their application portal at jeemain.nta.ac.in 2023. Once the provisional answer keys have undergone scrutiny\, NTA releases the final JEE Main 2023 Answer Key PDFs on the official website. Candidates can check the tentative JEE Main 2023 Answer Key release date from the table below. \n\n\n\n\n\nEvents\nJEE Main Phase 2 Dates\n\n\n\n\n\nProvisional JEE Main 2023 Answer Key Release Date \n\n\n3rd week of April 2023 \n\n\n\nJEE Main 2023 Answer Key Challenge Date\n3rd week of April 2023\n\n\nFinal JEE Main 2023 Answer Key Release Date\n4th week of April 2023\n\n\n\n\n\n\n\nJEE Main 2023 Result Release Date\nNTA announces the results separately for the two JEE Main papers: Paper 1 (B.E./B.Tech) and Paper 2 (B.Arch/ B.Planning). Candidates can check their results online using their JEE Main 2023 registration ID and password. JEE Main 2023 Result declaration date for January and April session is as follows: \n\nJEE Main Phase 1 Result Date – February 6\, 2023 (OUT)\nJEE Main Phase 2 Result Date – 1st week of May 2023 (tentative)\n\n\nJEE Main 2023 Counselling Dates\nJEE Main 2023 Counselling is held by different authorities for different colleges. These include- \n\nJoSSA Counselling 2023- Conducted by JoSAA for admissions to 23 IITs\, 31 NITs\, IIEST Shibpur\, 26 IIITs and 29 Other GFTIs.\nCSAB Special Counselling 2023- Conducted by CSAB for JoSAA NIT+ Admissions for remaining seats in Union Territories\, North-Eastern regions\, and 17 participating SFTIs after JoSAA Counselling.\nCSAB NEUT Counselling 2023- Conducted for candidates belonging to eight North East States (Arunachal Pradesh\, Assam\, Meghalaya\, Mizoram\, Manipur\, Nagaland\, Sikkim and Tripura) and four Union Territories (Dadra & Nagar Haveli\, Daman & Diu\, Andaman & Nicobar Islands and Lakshadweep).\nCSAB SFTI Counselling 2023- Conducted for B.Tech admissions at Self Financing Technical Institutes in India.\n\nJEE Main 2023 Counselling is conducted after the declaration of results of the final phase of exam. Candidates can expect JoSAA Registrations to begin tentatively in the 1st week of June. Candidates can check the expected dates for JEE Main 2023 Counselling in the table below. \n\n\n\n\n\nEvents\nDates (tentative)\n\n\n\n\nRegistration & filling choices start\n1st week of June 2023\n\n\nRegistration & filling choices start (For AAT)\nJuly 2023\n\n\nDisplay of mock seat allocation-1\nJuly 2023\n\n\nDisplay of mock seat allocation-2\nJuly 2023\n\n\nLast date for registration & choice Filling\nJuly 2023\n\n\nReconciliation of data\, seat allocation\, verification and validation\nJuly 2023\n\n\nSeat allocation (Round 1)\nAugust 2023\n\n\nDocument verification and acceptance of seat by reporting at reporting centres (Round 1)\nAugust 2023\n\n\nDisplay of seats filled/availability status\nAugust 2023\n\n\nSeat allocation (2nd Round)\nAugust 2023\n\n\nDocument verification and acceptance/withdrawal of seat by reporting at reporting centres (Round 2)\nAugust 2023\n\n\nDisplay of seats filled/availability status\nAugust 2023\n\n\nSeat allocation (Round 3)\nAugust 2023\n\n\nDocument verification and acceptance/withdrawal of seat by reporting at reporting centres (Round 3)\nAugust 2023\n\n\nDisplay of seats filled/availability status\nAugust 2023\n\n\nSeat allocation (Round 4)\nSeptember 2023\n\n\nDocument verification and acceptance of seat by reporting at reporting centres (Round 4)\nSeptember 2023\n\n\nDisplay of seats filled/availability status\nSeptember 2023\n\n\nSeat allocation (Round 5)\nSeptember 2023\n\n\nDocument verification and acceptance/withdrawal of seat by reporting at reporting centres (Round 5)\nSeptember 2023\n\n\nDisplay of seats filled/availability status\nSeptember 2023\n\n\nSeat allocation (Round 6)\nOctober 2023\n\n\nDocument Verification and Acceptance/withdrawal of Seat by reporting at Reporting Centres (Round 6)\nOctober 2023\n\n\nDisplay of seats filled/availability status\nOctober 2023\n\n\nSeat Allocation (Round 7)\nOctober 2023\n\n\nDocument verification and acceptance of seat by reporting at reporting Centres/admitting institutes (Round 7)\nOctober 2023\n\n\nWithdrawal of seat at participating institutes)\nOctober 2023\n\n\n\n\n\n\n\nFAQ’s JEE Main 2023\n\nQ. What is JEE Main 2023 Exam Date Session 1? \n\nAns. NTA JEE Main 2023 Exam Date January Session is January 24\, 25\, 28\, 29\, 30\, 31 and February 1\, 2023. NTA has announced the detailed JEE Main Exam Date for both session 1 and session 2 along with the notification on December 15\, 2022. \n\nQ. What is JEE Main 2023 Application Form release date? \n\nAns. NTA released JEE Main 2023 application form for Phase 2 from Feb 14 to March 12. Now\, the application window is reopened from March 15 to 16\, 2023. \n\nQ. What is JEE Main 2023 Admit Card release date? \n\nAns. The authorities releases JEE Main 2023 Admit Card for Phase 1 and 2 separately. The tentative JEE Main 2023 Admit Card release date for April Session is 2nd week of May 2023. Candidates need to visit the official website- jeemain.nta.nic.in to download their admit card using their application number and DoB. \n\nQ. What is JEE Main 2023 results declaration date? \n\nAns. JEE Main 2023 Result date for April session will be announced after a week of conclusion of the exam. Candidates can visit the official website- jeemain.nta.nic.in to download their JEE Main 2023 result. \n\nQ. When will the counseling process commence for JEE Main 2023? \n\nAns. The authorities haven’t released a schedule for JEE Main 2023 Counselling as of yet. However\, based on the tentative schedule\, JoSAA Counselling is expected to start in June after the declaration of final JEE Main 2023 and JEE Advanced 2023 result. \n\nQ. What are JEE Main 2023 Exam Timings?  \n\nAns. JEE Main 2023 will be held in two shifts. The first shift will probably start at 9 AM and the second shift at 3 PM. The candidates are advised to prepare every topic mentioned in the syllabus to ace the exam. \n\nQ. Will JEE Mains 2023 be in January? \n\nAns. JEE Mains 2023 Exam Date Session 1 is in January 2023. JEE Mains 2023 is going to resume the pre-COVID schedule and therefore the first phase of the exam is scheduled on January 24\, 25\, 28\, 29\, 30\, 31 and February 1\, 2023 and second phase on April 6\, 8\, 10\, 11\, 12\, 13 and 15\, 2023. \n\nQ. Is JEE Main twice a year? \n\nAns. NTA has conducted JEE Main twice every year (with an exception to 2021\, when the exam was conducted four times due to COVID-19 pandemic). The same is going to continue for JEE Mains 2023. NTA is going to conduct JEE Main 2023 twice in January and April 2023. \n\n 
URL:https://shikshaview.com/event/btech-bplan-barch-be-jee-main-exam-dates
LOCATION:JEE MAINS EXAM CENTERS\, India
CATEGORIES:Entrance Exam
ATTACH;FMTTYPE=image/jpeg:https://shikshaview.com/wp-content/uploads/2022/12/jee-mains-nta.jpg
ORGANIZER;CN="JEE%20MAIN%20NTA":MAILTO:info@shikshaview.com
END:VEVENT
END:VCALENDAR