BEGIN:VCALENDAR
VERSION:2.0
PRODID:-//Top Colleges, Universities &amp; Institutes in India | Admission, Fees, Rankings of Top Management, Engineering, Medical Colleges - ECPv5.8.2//NONSGML v1.0//EN
CALSCALE:GREGORIAN
METHOD:PUBLISH
X-WR-CALNAME:Top Colleges, Universities &amp; Institutes in India | Admission, Fees, Rankings of Top Management, Engineering, Medical Colleges
X-ORIGINAL-URL:https://shikshaview.com
X-WR-CALDESC:Events for Top Colleges, Universities &amp; Institutes in India | Admission, Fees, Rankings of Top Management, Engineering, Medical Colleges
BEGIN:VTIMEZONE
TZID:Asia/Kolkata
BEGIN:STANDARD
TZOFFSETFROM:+0530
TZOFFSETTO:+0530
TZNAME:IST
DTSTART:20230101T000000
END:STANDARD
END:VTIMEZONE
BEGIN:VEVENT
DTSTART;TZID=Asia/Kolkata:20230430T080000
DTEND;TZID=Asia/Kolkata:20230430T170000
DTSTAMP:20260422T195507
CREATED:20230209T215421Z
LAST-MODIFIED:20230429T221517Z
UID:13838-1682841600-1682874000@shikshaview.com
SUMMARY:AJEE 2023: Exam Dates\, Application Form\, Eligibility\, Syllabus\, Results
DESCRIPTION:AJEE – AISECT Joint Entrance Exam\nAISECT University conducts the AJEE exam in order to shortlist aspirants for admission in various programmes offered by the varsity. AISECT Joint Entrance Exam (AJEE) is a Pan-India entrance test which candidates need to take in order to secure admission in programmes offered at the AISECT Group of Universities. Also\, on the basis of an aspirant’s performance in AJEE\, he/she can secure admission in Rabindranath Tagore University\, Bhopal; Dr CV Raman University Bilaspur\, CG; AISECT University\, Hazaribagh and Dr CV Raman University\, Vaishali. \n\nAJEE 2023 Exam Dates\nCandidates can check the following table for the schedule of AJEE 2023: \n\n\n\n\n\nEvents\nDate\n\n\n\n\nStarting date of Filling Application Form\nApril 1\, 2023\n\n\nClosing date of filling Application Form\nApril 28\, 2023\n\n\nAJEE 2023 Exam Date\nApril 30\, 2023\n\n\nResult Declaration\nMay 7\, 2023\n\n\n\n\n\n\nAJEE 2022 Highlights\nCandidates can check the highlights of AJEE 2022 \n\n\n\n\nParticulars\nDetails\n\n\n\n\nExam Name\nAISECT Joint Entrance Exam\n\n\nConducting Body\nAISECT University\n\n\nExam Level\nNational Level\n\n\nOfficial Website\najee.aisectonline.com\n\n\nMode of Exam\nOffline and Online\n\n\nMedium of Exam\nEnglish\n\n\nDuration of Exam\n120 minutes\n\n\n\n\nAJEE 2023: Courses Offered\nCheck out the list of courses offered through AJEE: \n\n\n\n\nFaculty of Engineering\n\n\n\n\nBE Mechanical Engineering\nBE Civil Engineering\n\n\nBE Electrical & Electronics\nBE Computer Science\n\n\nBE Information Technology\n\n\n\nEngineering Diploma Programmes\n\n\n\nCivil Engineering\nMechanical Engineering\n\n\nElectrical Engineering\n\n\n\nFaculty of Management\n\n\n\nMaster of Business Administration (MBA)\n\n\n\n\nFaculty of Education\n\n\n\nBachelor of Education (BEd)\nBachelor of Physical Education (BPEd)\n\n\nMaster of Education (MEd)\n\n\n\nFaculty of Law\n\n\n\nBA LLB\nBCOM LLB\n\n\nBBA LLB\nLLB\n\n\nLLM\n\n\n\nFaculty of Agriculture\n\n\n\nBSc Agriculture\n\n\n\nFaculty of Nursing\n\n\n\nBSc Nursing\nGNM\n\n\n\nFaculty of Paramedical\n\n\n\nBPT\nMPT\n\n\nBMLT\n\n\n\nFaculty of Information Technology\n\n\n\nBCA\n\n\n\n\nAJEE 2023 Eligibility\nIt is compulsory for all the candidates to meet the eligibility criteria to apply for the application form. After clearing the eligibility criteria candidates can apply for the AJEE 2023. Here are the course wise Eligibility Criteria of AJEE 2023 which are given as follows: \n  \n\n\n\n\n\nCourses\nEligibility\n\n\n\n\nBachelor of Engineering\nCandidate must have passed Class 12 with PCM and secure at least 45% marks (40% in case of SC/ST)\n\n\nMaster of Engineering\nBachelors degree with at least 50% marks ( 40% in case of SC/ST)\n\n\nEngineering Diploma Program\nCandidates must have passed Class 10 with at least 35% marks\n\n\nBachelor of Education and Bachelor of Physical Education\nCandidates must have a Bachelor’s or Master’s degree with at least 50% marks (45% in case of SC/ST/OBC)\n\n\nBachelor of Education\nGraduation in any Discipline with 50% (45% for ST/SC)\n\n\nMaster of Education\nCandidate must have done B.Ed. with minimum 55% marks from a recognized University\n\n\nManagement (MBA)\nCandidates must have a Bachelor’s degree with at least 50% marks (45% in case of SC/ST/OBC)\n\n\nBA LLB\nCandidates must have passed Class 12 with at least 45% marks (40% in case of SC/ST/OBC)\n\n\nLLB\nCandidates must have a Graduation degree with atlas 45% marks (40% in case of SC/ST/OBC)\n\n\nLLM\nLL.B degree with at least 55% marks. There is no Age limit\n\n\nB.Sc. in Agriculture\nCandidates must have passed 10+2 (P.C.M/C.B.Z) and 12th (Ag.) from recognized board.\n\n\n\nB.Sc. in Nursing \n\nCandidates must have passed Class 12 with Biology having secured 45% marks\n\n\nM.Sc. in Agriculture\nCandidate must have done B.Sc. Agriculture with minimum 50% marks from a recognized University\n\n\nBachelor of Physiotherapy\nCandidate must have done 10+2 or equivalent examination in Biology discipline from a recognized Board.\n\n\n\n\n\n\nCandidates appearing in the final year examination of graduation/Class 12 can also apply. However\, such candidates are required to submit the proof of passing the qualifying examination latest by August 2023.\nThere is no age limit prescribed by the authority for LL.B. and LL.M. courses\n\nAJEE 2023 Exam Pattern\nThe exam will be conducted in online and offline mode at selected test centers in India. The question paper will be of objective multiple-choice questions type. \n\nThere will be a total of 100 questions.\nThe question paper will vary depending upon the course\, the candidate has applied for.\nThe duration of the exam will be 120 minutes.\nA candidate will be rewarded 1 mark for everyone correct answer and no mark will be deducted for every incorrect answer.\n\nQuestion Paper Pattern for various courses:\n\n\n\n\n\nCourse\nSections\n\n\n\n\nBachelor of Engineering and Engineering Diploma Program\nPhysics\, Mathematics and Chemistry.\n\n\nBachelor of Education\nAptitude\, General Knowledge\, General Studies\, Numerical Aptitude\, Reasoning Ability and Verbal Ability\n\n\nBachelor of Physical Education\nThe question paper will contain 40 MCQs and will be contain questions from – General Knowledge of Games and Sports\, Reasoning Ability and Verbal Ability.\n\n\nManagement\nReading Comprehension\, Numerical Ability and Data Interpretation and Logical Reasoning\n\n\nBA LLB\, LLB and LLM\nThe question paper will be consolidated and the questions can be asked from- Legal Aptitude\, General Knowledge\, General Studies\, English and Reasoning Ability\n\n\nBachelor of Science/Nursing/Paramedical\nThe question paper will be consolidated and the questions will be asked from the respective field and PCM and PCB.\n\n\n\n\n\nExam Pattern Highlights\n\n\n\n\n\nMode of Examination\nOffline and Online\n\n\n\n\nNumber of Questions\n100\n\n\nMaximum Marks\n100\n\n\nDuration\n120 minutes\n\n\nSections in Paper\nDepend upon the course\, a candidate has applied for\n\n\n\n\n\nAJEE 2023 Result\nAJEE 2023 Result will be announced on May 7\, 2023 on the official portal. An applicant who will give the entrance exam can check AJEE 2023 Result on the official website. \nFollow the steps to check the result: \n\nVisit the official website of AJEE 2023\nClick on the link “AJEE-Result 2023”\nLogin using Registration Number and Password\nClick on the “Submit” button\nResults will be displayed on the new screen\nDownload and save your Result\n\n\nAJEE 2023 Merit List\nAISECT University will publish separate merit list for each course based on the candidates’ performance in the entrance test. Ranking of the merit list will be in the descending order of total marks scored in the entrance exam. Separate Reserved category list will also be prepared. Based on candidate’s performance\, they will be called for counselling procedure. \n\n\n\nAJEE 2023 Cut Off\nAJEE 2023 Cut Off score will be the lowest possible marks a candidate must obtain in order to be eligible for AJEE 2023 Counselling Process. AJEE 2023 cut off score is based on many factors such as \n\nTotal number of candidates appeared in the entrance test\nTotal number of candidates who passed the entrance test\nDifficulty level of question paper\nTotal number of seats\n\nBased on AJEE 2023 Cut off for various courses\, the exam conducting authority will declare the AJEE 2023 Result and Merit List for candidates who are eligible the counselling process. \n\n\n\nAJEE 2023 Counselling\nOnly the candidates who will be shortlisted based on AISECT University Entrance Test 2023 will be eligible for the counselling process. Candidates will be informed via email/SMS about his/her counselling schedule. \nCounselling and Seat allotment will be done in the sequential order based on AJEE 2023 Rank of the candidate\, therefore\, candidates are advised to appear for counselling on the specified date and time allotted to them. Date and time of the counselling cannot be changed under any circumstances. All the certificates and documents of the candidate will be verified at the counselling centre on the stipulated date. The candidate should appear for Counselling procedure himself/herself with all the necessary documents. No other person will be allowed to appear for the counselling and admission on behalf of the candidate. \n\n\nList of the documents/certificates is mentioned below: \n\n2 Passport size Photographs\nAJEE 2023 Rank Card\nAJEE 2023 Admit Card\nPhoto Identity Card\nProof of Date of Birth\nProof of Seat Acceptance Fee Payment\n12th standard Mark Sheet\nCategory Certificate (if applicable)\nTransfer Certificate from the Institution last attended.\nConduct Certificate.\nOriginal mark list of Diploma in Engineering/Technology/Pharmacy certificate\nMigration Certificate (if applicable)\n\nColleges accepting AJEE scores\nEnlisted below are some of the popular colleges that accept AJEE scores. \n\n\n\nRNTU Bhopal\nCVRU Bilaspur\n\n\nAISECT Hazaribagh\nCVRU Vaishali\n\n\nCVRU Khandwa\n\n\n\n 
URL:https://shikshaview.com/event/ajee-exam-dates-application-form-eligibility-syllabus-results
CATEGORIES:Entrance Exam
ATTACH;FMTTYPE=image/png:https://shikshaview.com/wp-content/uploads/2023/02/AJEE-EXAM.png
ORGANIZER;CN="AISECT%20Group%20of%20Universities":MAILTO:info@shikshaview.com
END:VEVENT
END:VCALENDAR